BEGIN:VCALENDAR
METHOD:PUBLISH
VERSION:2.0
PRODID:-//hacksw/handcal//NONSGML v1.0//EN
X-WR-TIMEZONE:Australia/Melbourne
CALSCALE:GREGORIAN
BEGIN:VEVENT
DTSTART;TZID=Australia/Melbourne:20260518T193000
DTEND;TZID=Australia/Melbourne:20260518T213000
UID:1240831153869A7F8FE466161854744501418092747269A7F8FE466256566866
DTSTAMP:20260424T002840
LOCATION:Penrite HQ
DESCRIPTION:AOMC Delegates\' Meeting details are here: https://www.aomc.as
 n.au/aomc-delegates-meetings 
URL;VALUE=URI:http://alfaclubvic.org.au/events/view.php?id=1240831153869A7
 F8FE466161854744501418092747269A7F8FE466256566866
SUMMARY:AOMC Delegates\' Meeting
END:VEVENT
END:VCALENDAR
